Package: consensusDE Version: 1.25.0 Command: /Library/Frameworks/R.framework/Resources/bin/R CMD INSTALL consensusDE StartedAt: 2025-02-09 15:13:58 -0500 (Sun, 09 Feb 2025) EndedAt: 2025-02-09 15:14:17 -0500 (Sun, 09 Feb 2025) EllapsedTime: 19.3 seconds RetCode: 0 Status: OK