Package: consensusDE Version: 1.25.0 Command: /home/biocbuild/bbs-3.21-bioc/R/bin/R CMD check --install=check:consensusDE.install-out.txt --library=/home/biocbuild/bbs-3.21-bioc/R/site-library --timings consensusDE_1.25.0.tar.gz StartedAt: 2025-02-09 21:11:06 -0500 (Sun, 09 Feb 2025) EndedAt: 2025-02-09 21:17:17 -0500 (Sun, 09 Feb 2025) EllapsedTime: 371.5 seconds RetCode: 0 Status: OK CheckDir: consensusDE.Rcheck Warnings: 0