Package: consensusDE Version: 1.25.0 Command: /home/biocbuild/bbs-3.21-bioc/R/bin/R CMD INSTALL consensusDE StartedAt: 2025-02-09 15:52:47 -0500 (Sun, 09 Feb 2025) EndedAt: 2025-02-09 15:53:35 -0500 (Sun, 09 Feb 2025) EllapsedTime: 48.0 seconds RetCode: 0 Status: OK