Package: consensusDE Version: 1.25.0 Command: chmod a+r consensusDE -R && E:\biocbuild\bbs-3.21-bioc\R\bin\R.exe CMD build --keep-empty-dirs --no-resave-data consensusDE StartedAt: 2025-02-09 18:02:26 -0500 (Sun, 09 Feb 2025) EndedAt: 2025-02-09 18:04:09 -0500 (Sun, 09 Feb 2025) EllapsedTime: 102.9 seconds RetCode: 0 Status: OK PackageFile: consensusDE_1.25.0.tar.gz PackageFileSize: 476.1 KiB