Package: consensusOV Version: 1.29.0 Command: /Library/Frameworks/R.framework/Resources/bin/R CMD build --keep-empty-dirs --no-resave-data consensusOV StartedAt: 2025-02-04 15:59:04 -0500 (Tue, 04 Feb 2025) EndedAt: 2025-02-04 16:00:08 -0500 (Tue, 04 Feb 2025) EllapsedTime: 63.7 seconds RetCode: 0 Status: OK PackageFile: consensusOV_1.29.0.tar.gz PackageFileSize: 3.21 MiB