Package: consensusOV Version: 1.29.0 Command: /Library/Frameworks/R.framework/Resources/bin/R CMD check --install=check:consensusOV.install-out.txt --library=/Library/Frameworks/R.framework/Resources/library --no-vignettes --timings consensusOV_1.29.0.tar.gz StartedAt: 2025-02-04 18:40:36 -0500 (Tue, 04 Feb 2025) EndedAt: 2025-02-04 18:42:52 -0500 (Tue, 04 Feb 2025) EllapsedTime: 136.7 seconds RetCode: 0 Status: OK CheckDir: consensusOV.Rcheck Warnings: 0