Package: consensusOV Version: 1.29.0 Command: rm -rf consensusOV.buildbin-libdir && mkdir consensusOV.buildbin-libdir && /Users/biocbuild/BBS/utils/build-universal.sh consensusOV_1.29.0.tar.gz /Library/Frameworks/R.framework/Resources/bin/R consensusOV.buildbin-libdir StartedAt: 2025-02-05 00:34:31 -0500 (Wed, 05 Feb 2025) EndedAt: 2025-02-05 00:35:43 -0500 (Wed, 05 Feb 2025) EllapsedTime: 71.8 seconds RetCode: 0 Status: OK PackageFile: consensusOV_1.29.0.tgz PackageFileSize: 4.524 MiB