Package: consensusOV Version: 1.29.0 Command: /Library/Frameworks/R.framework/Resources/bin/R CMD build --keep-empty-dirs --no-resave-data consensusOV StartedAt: 2025-02-04 16:19:28 -0500 (Tue, 04 Feb 2025) EndedAt: 2025-02-04 16:21:54 -0500 (Tue, 04 Feb 2025) EllapsedTime: 146.1 seconds RetCode: 0 Status: OK PackageFile: consensusOV_1.29.0.tar.gz PackageFileSize: 3.21 MiB