Package: consensusOV Version: 1.29.0 Command: /Library/Frameworks/R.framework/Resources/bin/R CMD INSTALL consensusOV StartedAt: 2025-02-04 15:44:40 -0500 (Tue, 04 Feb 2025) EndedAt: 2025-02-04 15:45:32 -0500 (Tue, 04 Feb 2025) EllapsedTime: 52.9 seconds RetCode: 0 Status: OK