Package: consensusOV Version: 1.29.0 Command: /home/biocbuild/bbs-3.21-bioc/R/bin/R CMD check --install=check:consensusOV.install-out.txt --library=/home/biocbuild/bbs-3.21-bioc/R/site-library --timings consensusOV_1.29.0.tar.gz StartedAt: 2025-02-04 21:09:25 -0500 (Tue, 04 Feb 2025) EndedAt: 2025-02-04 21:16:36 -0500 (Tue, 04 Feb 2025) EllapsedTime: 431.6 seconds RetCode: 0 Status: OK CheckDir: consensusOV.Rcheck Warnings: 0