Package: consensusOV Version: 1.29.0 Command: /home/biocbuild/bbs-3.21-bioc/R/bin/R CMD INSTALL consensusOV StartedAt: 2025-02-09 15:54:54 -0500 (Sun, 09 Feb 2025) EndedAt: 2025-02-09 15:55:48 -0500 (Sun, 09 Feb 2025) EllapsedTime: 53.8 seconds RetCode: 0 Status: OK