Package: consensusSeekeR Version: 1.35.0 Command: /Library/Frameworks/R.framework/Resources/bin/R CMD check --install=check:consensusSeekeR.install-out.txt --library=/Library/Frameworks/R.framework/Resources/library --no-vignettes --timings consensusSeekeR_1.35.0.tar.gz StartedAt: 2025-02-09 18:39:32 -0500 (Sun, 09 Feb 2025) EndedAt: 2025-02-09 18:41:04 -0500 (Sun, 09 Feb 2025) EllapsedTime: 92.0 seconds RetCode: 0 Status: OK CheckDir: consensusSeekeR.Rcheck Warnings: 0