Package: consensusSeekeR Version: 1.35.0 Command: /home/biocbuild/bbs-3.21-bioc/R/bin/R CMD build --keep-empty-dirs --no-resave-data consensusSeekeR StartedAt: 2025-02-12 16:43:07 -0500 (Wed, 12 Feb 2025) EndedAt: 2025-02-12 16:44:54 -0500 (Wed, 12 Feb 2025) EllapsedTime: 107.1 seconds RetCode: 0 Status: OK PackageFile: consensusSeekeR_1.35.0.tar.gz PackageFileSize: 739.1 KiB