Package: consensusSeekeR Version: 1.35.0 Command: E:\biocbuild\bbs-3.21-bioc\R\bin\R.exe CMD INSTALL consensusSeekeR StartedAt: 2025-02-12 16:24:24 -0500 (Wed, 12 Feb 2025) EndedAt: 2025-02-12 16:25:23 -0500 (Wed, 12 Feb 2025) EllapsedTime: 59.4 seconds RetCode: 0 Status: OK