Package: conumee Version: 1.41.0 Command: rm -rf conumee.buildbin-libdir && mkdir conumee.buildbin-libdir && /Users/biocbuild/BBS/utils/build-universal.sh conumee_1.41.0.tar.gz /Library/Frameworks/R.framework/Resources/bin/R conumee.buildbin-libdir StartedAt: 2025-02-09 22:10:26 -0500 (Sun, 09 Feb 2025) EndedAt: 2025-02-09 22:12:16 -0500 (Sun, 09 Feb 2025) EllapsedTime: 110.3 seconds RetCode: 0 Status: OK PackageFile: conumee_1.41.0.tgz PackageFileSize: 2.129 MiB