Package: conumee Version: 1.41.0 Command: /Library/Frameworks/R.framework/Resources/bin/R CMD build --keep-empty-dirs --no-resave-data conumee StartedAt: 2025-02-09 15:58:45 -0500 (Sun, 09 Feb 2025) EndedAt: 2025-02-09 16:01:45 -0500 (Sun, 09 Feb 2025) EllapsedTime: 180.0 seconds RetCode: 0 Status: OK PackageFile: conumee_1.41.0.tar.gz PackageFileSize: 1.782 MiB