Package: conumee Version: 1.41.0 Command: /home/biocbuild/R/R/bin/R CMD build --keep-empty-dirs --no-resave-data conumee StartedAt: 2025-01-28 22:06:01 -0000 (Tue, 28 Jan 2025) EndedAt: 2025-01-28 22:15:59 -0000 (Tue, 28 Jan 2025) EllapsedTime: 598.2 seconds RetCode: 0 Status: OK PackageFile: conumee_1.41.0.tar.gz PackageFileSize: 732.6 KiB