Package: conumee Version: 1.41.0 Command: /Library/Frameworks/R.framework/Resources/bin/R CMD build --keep-empty-dirs --no-resave-data conumee StartedAt: 2025-02-03 16:24:26 -0500 (Mon, 03 Feb 2025) EndedAt: 2025-02-03 16:30:47 -0500 (Mon, 03 Feb 2025) EllapsedTime: 381.5 seconds RetCode: 0 Status: OK PackageFile: conumee_1.41.0.tar.gz PackageFileSize: 1.779 MiB