Package: conumee Version: 1.41.0 Command: /Library/Frameworks/R.framework/Resources/bin/R CMD check --install=check:conumee.install-out.txt --library=/Library/Frameworks/R.framework/Resources/library --no-vignettes --timings conumee_1.41.0.tar.gz StartedAt: 2025-02-09 19:56:31 -0500 (Sun, 09 Feb 2025) EndedAt: 2025-02-09 20:20:44 -0500 (Sun, 09 Feb 2025) EllapsedTime: 1452.6 seconds RetCode: 0 Status: OK CheckDir: conumee.Rcheck Warnings: 0