Package: conumee Version: 1.41.0 Command: /Library/Frameworks/R.framework/Resources/bin/R CMD INSTALL conumee StartedAt: 2025-02-03 15:46:36 -0500 (Mon, 03 Feb 2025) EndedAt: 2025-02-03 15:50:48 -0500 (Mon, 03 Feb 2025) EllapsedTime: 251.4 seconds RetCode: 0 Status: OK