Package: conumee Version: 1.41.0 Command: /home/biocbuild/bbs-3.21-bioc/R/bin/R CMD build --keep-empty-dirs --no-resave-data conumee StartedAt: 2025-02-03 16:55:22 -0500 (Mon, 03 Feb 2025) EndedAt: 2025-02-03 17:01:31 -0500 (Mon, 03 Feb 2025) EllapsedTime: 368.4 seconds RetCode: 0 Status: OK PackageFile: conumee_1.41.0.tar.gz PackageFileSize: 1.248 MiB