Package: conumee Version: 1.41.0 Command: /home/biocbuild/bbs-3.21-bioc/R/bin/R CMD INSTALL conumee StartedAt: 2025-02-03 15:53:21 -0500 (Mon, 03 Feb 2025) EndedAt: 2025-02-03 15:56:51 -0500 (Mon, 03 Feb 2025) EllapsedTime: 210.4 seconds RetCode: 0 Status: OK