Package: convert Version: 1.83.0 Command: rm -rf convert.buildbin-libdir && mkdir convert.buildbin-libdir && /Users/biocbuild/BBS/utils/build-universal.sh convert_1.83.0.tar.gz /Library/Frameworks/R.framework/Resources/bin/R convert.buildbin-libdir StartedAt: 2025-02-09 22:10:27 -0500 (Sun, 09 Feb 2025) EndedAt: 2025-02-09 22:10:30 -0500 (Sun, 09 Feb 2025) EllapsedTime: 3.1 seconds RetCode: 0 Status: OK PackageFile: convert_1.83.0.tgz PackageFileSize: 181.9 KiB