Package: convert Version: 1.83.0 Command: /Library/Frameworks/R.framework/Resources/bin/R CMD check --install=check:convert.install-out.txt --library=/Library/Frameworks/R.framework/Resources/library --no-vignettes --timings convert_1.83.0.tar.gz StartedAt: 2025-02-09 18:40:18 -0500 (Sun, 09 Feb 2025) EndedAt: 2025-02-09 18:40:32 -0500 (Sun, 09 Feb 2025) EllapsedTime: 14.2 seconds RetCode: 0 Status: OK CheckDir: convert.Rcheck Warnings: 0