Package: convert Version: 1.83.0 Command: /Library/Frameworks/R.framework/Resources/bin/R CMD INSTALL convert StartedAt: 2025-02-09 15:02:47 -0500 (Sun, 09 Feb 2025) EndedAt: 2025-02-09 15:02:51 -0500 (Sun, 09 Feb 2025) EllapsedTime: 4.3 seconds RetCode: 0 Status: OK