Package: convert Version: 1.83.0 Command: /home/biocbuild/R/R/bin/R CMD check --install=check:convert.install-out.txt --library=/home/biocbuild/R/R/site-library --no-vignettes --timings convert_1.83.0.tar.gz StartedAt: 2025-01-28 09:26:55 -0000 (Tue, 28 Jan 2025) EndedAt: 2025-01-28 09:27:27 -0000 (Tue, 28 Jan 2025) EllapsedTime: 32.0 seconds RetCode: 0 Status: OK CheckDir: convert.Rcheck Warnings: 0