Package: convert Version: 1.83.0 Command: /Library/Frameworks/R.framework/Resources/bin/R CMD build --keep-empty-dirs --no-resave-data convert StartedAt: 2025-02-09 16:22:29 -0500 (Sun, 09 Feb 2025) EndedAt: 2025-02-09 16:22:41 -0500 (Sun, 09 Feb 2025) EllapsedTime: 11.5 seconds RetCode: 0 Status: OK PackageFile: convert_1.83.0.tar.gz PackageFileSize: 136.7 KiB