Package: copa Version: 1.75.0 Command: /Library/Frameworks/R.framework/Resources/bin/R CMD build --keep-empty-dirs --no-resave-data copa StartedAt: 2025-02-12 15:59:35 -0500 (Wed, 12 Feb 2025) EndedAt: 2025-02-12 15:59:41 -0500 (Wed, 12 Feb 2025) EllapsedTime: 5.0 seconds RetCode: 0 Status: OK PackageFile: copa_1.75.0.tar.gz PackageFileSize: 121 KiB