Package: copa Version: 1.75.0 Command: rm -rf copa.buildbin-libdir && mkdir copa.buildbin-libdir && /Users/biocbuild/BBS/utils/build-universal.sh copa_1.75.0.tar.gz /Library/Frameworks/R.framework/Resources/bin/R copa.buildbin-libdir StartedAt: 2025-02-10 00:48:05 -0500 (Mon, 10 Feb 2025) EndedAt: 2025-02-10 00:48:13 -0500 (Mon, 10 Feb 2025) EllapsedTime: 8.1 seconds RetCode: 0 Status: OK PackageFile: copa_1.75.0.tgz PackageFileSize: 159.5 KiB