Package: copa Version: 1.75.0 Command: /Library/Frameworks/R.framework/Resources/bin/R CMD build --keep-empty-dirs --no-resave-data copa StartedAt: 2025-02-09 16:22:36 -0500 (Sun, 09 Feb 2025) EndedAt: 2025-02-09 16:22:50 -0500 (Sun, 09 Feb 2025) EllapsedTime: 13.8 seconds RetCode: 0 Status: OK PackageFile: copa_1.75.0.tar.gz PackageFileSize: 121.1 KiB