Package: copa Version: 1.75.0 Command: /Library/Frameworks/R.framework/Resources/bin/R CMD INSTALL copa StartedAt: 2025-02-09 15:05:16 -0500 (Sun, 09 Feb 2025) EndedAt: 2025-02-09 15:05:45 -0500 (Sun, 09 Feb 2025) EllapsedTime: 29.3 seconds RetCode: 0 Status: OK