Package: copa Version: 1.75.0 Command: /home/biocbuild/bbs-3.21-bioc/R/bin/R CMD INSTALL copa StartedAt: 2025-02-04 15:12:18 -0500 (Tue, 04 Feb 2025) EndedAt: 2025-02-04 15:12:22 -0500 (Tue, 04 Feb 2025) EllapsedTime: 4.4 seconds RetCode: 0 Status: OK