Package: coseq Version: 1.31.0 Command: /Library/Frameworks/R.framework/Resources/bin/R CMD build --keep-empty-dirs --no-resave-data coseq StartedAt: 2025-02-09 15:59:10 -0500 (Sun, 09 Feb 2025) EndedAt: 2025-02-09 16:00:49 -0500 (Sun, 09 Feb 2025) EllapsedTime: 99.1 seconds RetCode: 0 Status: OK PackageFile: coseq_1.31.0.tar.gz PackageFileSize: 1.84 MiB