Package: coseq Version: 1.31.0 Command: /Library/Frameworks/R.framework/Resources/bin/R CMD INSTALL coseq StartedAt: 2025-02-04 15:19:19 -0500 (Tue, 04 Feb 2025) EndedAt: 2025-02-04 15:19:31 -0500 (Tue, 04 Feb 2025) EllapsedTime: 12.1 seconds RetCode: 0 Status: OK