Package: coseq Version: 1.31.0 Command: rm -rf coseq.buildbin-libdir && mkdir coseq.buildbin-libdir && /Users/biocbuild/BBS/utils/build-universal.sh coseq_1.31.0.tar.gz /Library/Frameworks/R.framework/Resources/bin/R coseq.buildbin-libdir StartedAt: 2025-02-10 00:48:11 -0500 (Mon, 10 Feb 2025) EndedAt: 2025-02-10 00:48:58 -0500 (Mon, 10 Feb 2025) EllapsedTime: 47.2 seconds RetCode: 0 Status: OK PackageFile: coseq_1.31.0.tgz PackageFileSize: 2.18 MiB