Package: coseq Version: 1.31.0 Command: /Library/Frameworks/R.framework/Resources/bin/R CMD build --keep-empty-dirs --no-resave-data coseq StartedAt: 2025-02-04 16:20:24 -0500 (Tue, 04 Feb 2025) EndedAt: 2025-02-04 16:24:10 -0500 (Tue, 04 Feb 2025) EllapsedTime: 226.0 seconds RetCode: 0 Status: OK PackageFile: coseq_1.31.0.tar.gz PackageFileSize: 1.864 MiB