Package: coseq Version: 1.31.0 Command: /home/biocbuild/bbs-3.21-bioc/R/bin/R CMD build --keep-empty-dirs --no-resave-data coseq StartedAt: 2025-02-04 16:45:20 -0500 (Tue, 04 Feb 2025) EndedAt: 2025-02-04 16:49:19 -0500 (Tue, 04 Feb 2025) EllapsedTime: 239.2 seconds RetCode: 0 Status: OK PackageFile: coseq_1.31.0.tar.gz PackageFileSize: 1.84 MiB