Package: coseq Version: 1.31.0 Command: /home/biocbuild/bbs-3.21-bioc/R/bin/R CMD check --install=check:coseq.install-out.txt --library=/home/biocbuild/bbs-3.21-bioc/R/site-library --timings coseq_1.31.0.tar.gz StartedAt: 2025-02-09 21:13:03 -0500 (Sun, 09 Feb 2025) EndedAt: 2025-02-09 21:20:19 -0500 (Sun, 09 Feb 2025) EllapsedTime: 436.6 seconds RetCode: 0 Status: OK CheckDir: coseq.Rcheck Warnings: 0