Package: coseq Version: 1.31.0 Command: rm -rf coseq.buildbin-libdir && mkdir coseq.buildbin-libdir && E:\biocbuild\bbs-3.21-bioc\R\bin\R.exe CMD INSTALL --build --library=coseq.buildbin-libdir coseq_1.31.0.tar.gz StartedAt: 2025-02-10 07:31:48 -0500 (Mon, 10 Feb 2025) EndedAt: 2025-02-10 07:32:34 -0500 (Mon, 10 Feb 2025) EllapsedTime: 46.6 seconds RetCode: 0 Status: OK PackageFile: coseq_1.31.0.zip PackageFileSize: 1.423 MiB