Package: coseq Version: 1.31.0 Command: E:\biocbuild\bbs-3.21-bioc\R\bin\R.exe CMD check --no-multiarch --install=check:coseq.install-out.txt --library=E:\biocbuild\bbs-3.21-bioc\R\library --no-vignettes --timings coseq_1.31.0.tar.gz StartedAt: 2025-02-05 00:27:07 -0500 (Wed, 05 Feb 2025) EndedAt: 2025-02-05 00:31:59 -0500 (Wed, 05 Feb 2025) EllapsedTime: 292.1 seconds RetCode: 0 Status: OK CheckDir: coseq.Rcheck Warnings: 0