Package: coseq Version: 1.31.0 Command: E:\biocbuild\bbs-3.21-bioc\R\bin\R.exe CMD INSTALL coseq StartedAt: 2025-02-09 16:56:06 -0500 (Sun, 09 Feb 2025) EndedAt: 2025-02-09 16:56:55 -0500 (Sun, 09 Feb 2025) EllapsedTime: 48.8 seconds RetCode: 0 Status: OK