Package: cosmiq Version: 1.41.0 Maintainer: David Fischer MaintainerEmail: dajofischer at googlemail.com git_url: https://git.bioconductor.org/packages/cosmiq git_branch: devel git_last_commit: acb2474 git_last_commit_date: 2024-10-29 09:52:33 -0500 (Tue, 29 Oct 2024)