Package: cosmiq Version: 1.41.0 Command: rm -rf cosmiq.buildbin-libdir && mkdir cosmiq.buildbin-libdir && /Users/biocbuild/BBS/utils/build-universal.sh cosmiq_1.41.0.tar.gz /Library/Frameworks/R.framework/Resources/bin/R cosmiq.buildbin-libdir StartedAt: 2025-02-09 22:10:34 -0500 (Sun, 09 Feb 2025) EndedAt: 2025-02-09 22:10:53 -0500 (Sun, 09 Feb 2025) EllapsedTime: 18.4 seconds RetCode: 0 Status: OK PackageFile: cosmiq_1.41.0.tgz PackageFileSize: 292.4 KiB