Package: cosmiq Version: 1.41.0 Command: /Library/Frameworks/R.framework/Resources/bin/R CMD build --keep-empty-dirs --no-resave-data cosmiq StartedAt: 2025-02-09 15:59:15 -0500 (Sun, 09 Feb 2025) EndedAt: 2025-02-09 16:00:17 -0500 (Sun, 09 Feb 2025) EllapsedTime: 61.7 seconds RetCode: 0 Status: OK PackageFile: cosmiq_1.41.0.tar.gz PackageFileSize: 540.9 KiB