Package: cosmiq Version: 1.41.0 Command: /Library/Frameworks/R.framework/Resources/bin/R CMD check --install=check:cosmiq.install-out.txt --library=/Library/Frameworks/R.framework/Resources/library --no-vignettes --timings cosmiq_1.41.0.tar.gz StartedAt: 2025-02-09 18:41:04 -0500 (Sun, 09 Feb 2025) EndedAt: 2025-02-09 18:43:11 -0500 (Sun, 09 Feb 2025) EllapsedTime: 126.5 seconds RetCode: 0 Status: OK CheckDir: cosmiq.Rcheck Warnings: 0