Package: cosmiq Version: 1.41.0 Command: /home/biocbuild/R/R/bin/R CMD INSTALL cosmiq StartedAt: 2025-01-29 20:15:01 -0000 (Wed, 29 Jan 2025) EndedAt: 2025-01-29 20:15:56 -0000 (Wed, 29 Jan 2025) EllapsedTime: 54.4 seconds RetCode: 0 Status: OK