Package: cosmiq Version: 1.41.0 Command: /Library/Frameworks/R.framework/Resources/bin/R CMD check --install=check:cosmiq.install-out.txt --library=/Library/Frameworks/R.framework/Resources/library --no-vignettes --timings cosmiq_1.41.0.tar.gz StartedAt: 2025-02-09 19:57:24 -0500 (Sun, 09 Feb 2025) EndedAt: 2025-02-09 20:03:15 -0500 (Sun, 09 Feb 2025) EllapsedTime: 351.3 seconds RetCode: 0 Status: OK CheckDir: cosmiq.Rcheck Warnings: 0