Package: cosmiq Version: 1.41.0 Command: /Library/Frameworks/R.framework/Resources/bin/R CMD INSTALL cosmiq StartedAt: 2025-02-09 15:35:28 -0500 (Sun, 09 Feb 2025) EndedAt: 2025-02-09 15:36:23 -0500 (Sun, 09 Feb 2025) EllapsedTime: 54.9 seconds RetCode: 0 Status: OK