Package: cosmiq Version: 1.41.0 Command: chmod a+r cosmiq -R && E:\biocbuild\bbs-3.21-bioc\R\bin\R.exe CMD build --keep-empty-dirs --no-resave-data cosmiq StartedAt: 2025-02-09 18:04:33 -0500 (Sun, 09 Feb 2025) EndedAt: 2025-02-09 18:07:29 -0500 (Sun, 09 Feb 2025) EllapsedTime: 176.0 seconds RetCode: 0 Status: OK PackageFile: cosmiq_1.41.0.tar.gz PackageFileSize: 542 KiB