Package: cosmiq Version: 1.41.0 Command: E:\biocbuild\bbs-3.21-bioc\R\bin\R.exe CMD INSTALL cosmiq StartedAt: 2025-02-12 16:40:57 -0500 (Wed, 12 Feb 2025) EndedAt: 2025-02-12 16:41:47 -0500 (Wed, 12 Feb 2025) EllapsedTime: 50.0 seconds RetCode: 0 Status: OK